BEGIN:VCALENDAR
VERSION:2.0
CALSCALE:GREGORIAN
METHOD:PUBLISH
PRODID://GDCC//1402706
BEGIN:VEVENT
DTSTAMP:20260425T192817
VTIMEZONE:America/Phoenix
DTSTART:20260210T190000Z
DTEND:20260210T200000Z
UID:1402706
SUMMARY:Marketing Committee Lunch & Learn Series | February 10
LOCATION:Glendale Chamber of Commerce in the Pendergast Community Center, 10550 W. Mariposa Street, Phoenix, AZ, 85037
DESCRIPTION:Marketing Committee Lunch & Learn Series | February 10\n\n02/10/26 12:00 PM MT\n - 02/10/26 01:00 PM MT\Description:\nGCMC Lunch & Learn: Marketing Pros Series\nDiscover practical tools and strategies to elevate your business at the Glendale Chamber Marketing Committee (GCMC) Lunch & Learn Series. Engage in dynamic roundtable discussions, interactive in-person sessions, and hands-on training. Learn from GCMC experts as they tackle relevant marketing topics designed to empower your business growth. Don’t miss this opportunity to connect and learn!\n\n2026 Dates and Topics\n\n	Tuesday, February 10\n	\n		Topic: The 5 AI Myths Keeping You Stuck (and How To Move Past Them)\n		Presenter: BusyPros AI\n	\n	\n	â€‹Tuesday, April 14\n	Tuesday, June 9\n	Tuesday, August 11\n	Tuesday, October 13\n	Tuesday, December 8\n\n\nPricing: Complimentary to attend\n\n*Refreshments will be provided by the Glendale Chamber of Commerce.\n\nFor additional information, please call the Glendale Chamber at 623-937-4754.\n\nAll event attendees by registering agree that their image and person may be photographed or videotaped as part of the audience. The Glendale Chamber reserves the right to use any images or video captured during its event for promotional purposes and marketing purposes.\n\Location:\nGlendale Chamber of Commerce in the Pendergast Community Center\n10550 W. Mariposa Street\nPhoenix, AZ 85037
X-ALT-DESC;FMTTYPE=text/html:Marketing Committee Lunch & Learn Series | February 10<br /><br />02/10/26 12:00 PM MT - 02/10/26 01:00 PM MT<br />Description:<br /><strong>GCMC Lunch &amp; Learn: Marketing Pros Series</strong><br />
Discover practical tools and strategies to elevate your business at the Glendale Chamber Marketing Committee (GCMC) Lunch &amp; Learn Series. Engage in dynamic roundtable discussions, interactive in-person sessions, and hands-on training. Learn from GCMC experts as they tackle relevant marketing topics designed to empower your business growth. Don&rsquo;t miss this opportunity to connect and learn!<br />
<br />
<strong>2026 Dates and Topics</strong>
<ul>
	<li data-olk-copy-source="MessageBody">Tuesday, February&nbsp;10
	<ul>
		<li data-olk-copy-source="MessageBody"><u>Topic</u>: The 5 AI Myths Keeping You Stuck (and How To Move Past Them)</li>
		<li data-olk-copy-source="MessageBody"><u>Presenter</u>: BusyPros AI</li>
	</ul>
	</li>
	<li data-olk-copy-source="MessageBody">â€‹Tuesday, April 14</li>
	<li data-olk-copy-source="MessageBody">Tuesday, June 9</li>
	<li data-olk-copy-source="MessageBody">Tuesday, August 11</li>
	<li data-olk-copy-source="MessageBody">Tuesday, October 13</li>
	<li data-olk-copy-source="MessageBody">Tuesday, December 8</li>
</ul>
<br />
<strong>Pricing: </strong>Complimentary to attend

<p>*Refreshments will be provided by the Glendale Chamber of Commerce.<br />
<br />
For additional information, please call the Glendale Chamber at&nbsp;<a href="tel:623-937-4754">623-937-4754</a>.<br />
<br />
<em>All event attendees by registering agree that their image and person may be photographed or videotaped as part of the audience. The Glendale Chamber reserves the right to use any images or video captured during its event for promotional purposes and marketing purposes.</em></p>
<br />Location:<br />Glendale Chamber of Commerce in the Pendergast Community Center<br />10550 W. Mariposa Street<br />Phoenix, AZ 85037
PRIORITY:3
TRANSP:TRANSPARENT
BEGIN:VALARM
TRIGGER:-PT5M
ACTION:DISPLAY
DESCRIPTION:Reminder
END:VALARM
END:VEVENT
END:VCALENDAR
