BEGIN:VCALENDAR
VERSION:2.0
CALSCALE:GREGORIAN
METHOD:PUBLISH
PRODID://AFFT//1415077
BEGIN:VEVENT
DTSTAMP:20260423T062452
VTIMEZONE:America/Chicago
DTSTART:20260501T230000Z
DTEND:20260502T023000Z
UID:1415077
SUMMARY:Spring into Ownership with The Housing Partnership
LOCATION:River City Casino Hotel & Event Center, 777 River City Casino Boulevard, St. Louis, MO, 63125
DESCRIPTION:Spring into Ownership with The Housing Partnership\n\n05/01/26 06:00 PM CST\n - 05/01/26 09:30 PM CST\Description:\nEnjoy a fun night filled with food, wine, and beer tastings! You may also win one of many unique prizes through our silent auction and raffles!\n\nBy attending, you are helping a local nonprofit organization and Chamber member continue its mission is to create, preserve and support healthy and financially stable households. \n\nTickets and various sponsorship opportunities can be found through the our website, www.thehousingpartnershipstl.org. \n\nWe would love for you to join!\Location:\nRiver City Casino Hotel & Event Center\n777 River City Casino Boulevard\nSt. Louis, MO 63125
X-ALT-DESC;FMTTYPE=text/html:Spring into Ownership with The Housing Partnership<br /><br />05/01/26 06:00 PM CST - 05/01/26 09:30 PM CST<br />Description:<br />Enjoy a fun night filled with food, wine, and beer tastings! You may also win one of many unique prizes through our silent auction and raffles!<br />
<br />
By attending, you are helping a local nonprofit organization and Chamber member continue its mission is to create, preserve and support healthy and financially stable households.&nbsp;<br />
<br />
Tickets and various sponsorship opportunities can be found through the our website, www.thehousingpartnershipstl.org.&nbsp;<br />
<br />
We would love for you to join!<br />Location:<br />River City Casino Hotel & Event Center<br />777 River City Casino Boulevard<br />St. Louis, MO 63125
PRIORITY:3
TRANSP:TRANSPARENT
BEGIN:VALARM
TRIGGER:-PT5M
ACTION:DISPLAY
DESCRIPTION:Reminder
END:VALARM
END:VEVENT
END:VCALENDAR
