BEGIN:VCALENDAR
VERSION:2.0
CALSCALE:GREGORIAN
METHOD:PUBLISH
PRODID://GWPC//1415340
BEGIN:VEVENT
DTSTAMP:20260421T060526
VTIMEZONE:America/Denver
DTSTART:20260306T160000Z
DTEND:20260306T230000Z
UID:1415340
SUMMARY:CHAMBER OFFICE CLOSED - CHAMBER ANNUAL DINNER PREP & EVENT
LOCATION:Ute Pass Cultural Center, 210 East Midland Avenue, Woodland Park, CO, 80863
DESCRIPTION:CHAMBER OFFICE CLOSED - CHAMBER ANNUAL DINNER PREP & EVENT\n\n03/06/26 09:00 AM MST\n - 03/06/26 04:00 PM MST\Location:\nUte Pass Cultural Center\n210 East Midland Avenue\nWoodland Park, CO 80863
X-ALT-DESC;FMTTYPE=text/html:CHAMBER OFFICE CLOSED - CHAMBER ANNUAL DINNER PREP & EVENT<br /><br />03/06/26 09:00 AM MST - 03/06/26 04:00 PM MST<br />Location:<br />Ute Pass Cultural Center<br />210 East Midland Avenue<br />Woodland Park, CO 80863
PRIORITY:3
TRANSP:TRANSPARENT
BEGIN:VALARM
TRIGGER:-PT5M
ACTION:DISPLAY
DESCRIPTION:Reminder
END:VALARM
END:VEVENT
END:VCALENDAR
