BEGIN:VCALENDAR
VERSION:2.0
CALSCALE:GREGORIAN
METHOD:PUBLISH
PRODID://TDAC//1419493
BEGIN:VEVENT
DTSTAMP:20260421T081455
VTIMEZONE:America/Los_Angeles
DTSTART:20260330T010000Z
DTEND:20260330T040000Z
UID:1419493
SUMMARY:LMC Live Music Tonight
LOCATION:The Dalles, Oregon, The Dalles, OR, 97058
DESCRIPTION:LMC Live Music Tonight\n\n03/29/26 06:00 PM PST\n - 03/29/26 09:00 PM PST\Description:\nLive Music Tonight in The Dalles\n\nThere’s live music happening around town tonight at several local venues including Bargeway Pub, Zim’s Sports Bar & Grill, and Last Stop Saloon.\n\nIf you're looking for a place to relax, grab a drink, enjoy dinner, and hear some great local artists, take a look at the full lineup.\n\nSee tonight’s schedule and the full monthly calendar at:\nlittlemusiccity.com\n\nSupporting live music helps support our local artists, venues, and the community.\n\Details:\nLive Music Tonight in The Dalles\n\nThere’s live music happening around town tonight at several local venues including Bargeway Pub, Zim’s Sports Bar & Grill, and Last Stop Saloon.\n\nIf you're looking for a place to relax, grab a drink, enjoy dinner, and hear some great local artists, take a look at the full lineup.\n\nSee tonight’s schedule and the full monthly calendar at:\nlittlemusiccity.com\n\nSupporting live music helps support our local artists, venues, and the community.\n\Location:\nThe Dalles, Oregon\n\nThe Dalles, OR 97058
X-ALT-DESC;FMTTYPE=text/html:LMC Live Music Tonight<br /><br />03/29/26 06:00 PM PST - 03/29/26 09:00 PM PST<br />Description:<br /><p><strong>Live Music Tonight in The Dalles</strong></p>

<p>There&rsquo;s live music happening around town tonight at several local venues including&nbsp;<strong>Bargeway Pub, Zim&rsquo;s Sports Bar &amp; Grill, and Last Stop Saloon</strong>.</p>

<p>If you're looking for a place to relax, grab a drink, enjoy dinner, and hear some great local artists, take a look at the full lineup.</p>

<p>See tonight&rsquo;s schedule and the full monthly calendar at:<br />
<strong><a data-saferedirecturl="https://www.google.com/url?q=http://littlemusiccity.com&amp;source=gmail&amp;ust=1773524612427000&amp;usg=AOvVaw2ECaKwkOyKg8WhhnRuxLlp" href="http://littlemusiccity.com/" target="_blank">littlemusiccity.com</a></strong></p>

<p>Supporting live music helps support our local artists, venues, and the community.</p>
<br />Details:<br /><p><strong>Live Music Tonight in The Dalles</strong></p>

<p>There&rsquo;s live music happening around town tonight at several local venues including&nbsp;<strong>Bargeway Pub, Zim&rsquo;s Sports Bar &amp; Grill, and Last Stop Saloon</strong>.</p>

<p>If you're looking for a place to relax, grab a drink, enjoy dinner, and hear some great local artists, take a look at the full lineup.</p>

<p>See tonight&rsquo;s schedule and the full monthly calendar at:<br />
<strong><a data-saferedirecturl="https://www.google.com/url?q=http://littlemusiccity.com&amp;source=gmail&amp;ust=1773524612427000&amp;usg=AOvVaw2ECaKwkOyKg8WhhnRuxLlp" href="http://littlemusiccity.com/" target="_blank">littlemusiccity.com</a></strong></p>

<p>Supporting live music helps support our local artists, venues, and the community.</p>
<br />Location:<br />The Dalles, Oregon<br /><br />The Dalles, OR 97058
PRIORITY:3
TRANSP:TRANSPARENT
BEGIN:VALARM
TRIGGER:-PT5M
ACTION:DISPLAY
DESCRIPTION:Reminder
END:VALARM
END:VEVENT
END:VCALENDAR
