BEGIN:VCALENDAR
VERSION:2.0
CALSCALE:GREGORIAN
METHOD:PUBLISH
PRODID://WICC//1419904
BEGIN:VEVENT
DTSTAMP:20260422T184031
VTIMEZONE:America/Los_Angeles
DTSTART:20260425T153000Z
DTEND:20260425T230000Z
UID:1419904
SUMMARY:West Hills Shooting & Training
LOCATION:West Hills Shooting & Training Facility, 5700 County Road 33, Artois, CA
DESCRIPTION:West Hills Shooting & Training\n\n04/25/26 08:30 AM PST\n - 04/25/26 04:00 PM PST\Location:\nWest Hills Shooting & Training Facility\n5700 County Road 33\nArtois, CA
X-ALT-DESC;FMTTYPE=text/html:West Hills Shooting & Training<br /><br />04/25/26 08:30 AM PST - 04/25/26 04:00 PM PST<br />Location:<br />West Hills Shooting & Training Facility<br />5700 County Road 33<br />Artois, CA 
PRIORITY:3
TRANSP:TRANSPARENT
BEGIN:VALARM
TRIGGER:-PT5M
ACTION:DISPLAY
DESCRIPTION:Reminder
END:VALARM
END:VEVENT
END:VCALENDAR
