BEGIN:VCALENDAR
VERSION:2.0
CALSCALE:GREGORIAN
METHOD:PUBLISH
PRODID://BRCH//1427054
BEGIN:VEVENT
DTSTAMP:20260419T182656
VTIMEZONE:America/New_York
DTSTART:20260422T120000Z
DTEND:20260422T130000Z
UID:1427054
SUMMARY:Coffee Hour at Ponderosa! 
LOCATION:Ponderosa Steakhouse , 411 E. Chicago St., Coldwater, MI, 49036
DESCRIPTION:Coffee Hour at Ponderosa! \n\n04/22/26 08:00 AM EST\n - 04/22/26 09:00 AM EST\Description:\nJoin us for Coffee Hour!\n\nConnect, Network, and Grow with fellow Chamber Members over coffee and conversation. Bring your business cards! \Location:\nPonderosa Steakhouse \n411 E. Chicago St.\nColdwater, MI 49036
X-ALT-DESC;FMTTYPE=text/html:Coffee Hour at Ponderosa! <br /><br />04/22/26 08:00 AM EST - 04/22/26 09:00 AM EST<br />Description:<br />Join us for Coffee Hour!<br />
<br />
Connect, Network, and Grow with fellow Chamber Members over coffee and conversation. Bring your business cards!&nbsp;<br />Location:<br />Ponderosa Steakhouse <br />411 E. Chicago St.<br />Coldwater, MI 49036
PRIORITY:3
TRANSP:TRANSPARENT
BEGIN:VALARM
TRIGGER:-PT5M
ACTION:DISPLAY
DESCRIPTION:Reminder
END:VALARM
END:VEVENT
END:VCALENDAR
