BEGIN:VCALENDAR
VERSION:2.0
CALSCALE:GREGORIAN
METHOD:PUBLISH
PRODID://HMLT//1428590
BEGIN:VEVENT
DTSTAMP:20260424T072245
VTIMEZONE:America/Chicago
DTSTART:20260428T190000Z
DTEND:20260428T230000Z
UID:1428590
SUMMARY:FREE Laundry Event at The Wash Room
LOCATION:The Wash Room, 607 S. Jackson St., McLeansboro, IL, 62859
DESCRIPTION:FREE Laundry Event at The Wash Room\n\n04/28/26 02:00 PM CST\n - 04/28/26 06:00 PM CST\Description:\nJoin us for a FREE laundry event Tuesday, April 28th\nWash and dry up to 3 loads of laundry between 2:00pm – 6:00pm.\nSoap and fabric softener sheets will be provided by S.U.D.S. + Laundry Event.\n\nThis event is sponsored by Southeastern Illinois Substance Use Prevention and Recovery Treatment Council\Location:\nThe Wash Room\n607 S. Jackson St.\nMcLeansboro, IL 62859
X-ALT-DESC;FMTTYPE=text/html:FREE Laundry Event at The Wash Room<br /><br />04/28/26 02:00 PM CST - 04/28/26 06:00 PM CST<br />Description:<br /><span style="font-size:20px"><span style="font-family:comic sans ms,noteworthy,sans-serif">Join us for a FREE laundry event Tuesday, April 28th<br />
Wash and dry up to&nbsp;3 loads of laundry between 2:00pm &ndash; 6:00pm.<br />
Soap and fabric softener sheets will&nbsp;be provided by S.U.D.S. + Laundry Event.</span></span><br />
<br />
This event is sponsored by Southeastern Illinois Substance Use&nbsp;Prevention and Recovery Treatment Council<br />Location:<br />The Wash Room<br />607 S. Jackson St.<br />McLeansboro, IL 62859
PRIORITY:3
TRANSP:TRANSPARENT
BEGIN:VALARM
TRIGGER:-PT5M
ACTION:DISPLAY
DESCRIPTION:Reminder
END:VALARM
END:VEVENT
END:VCALENDAR
